BEGIN:VCALENDAR
BEGIN:VEVENT
SUMMARY:Shoulderbird\, Slight Of\, Izzy Oram Brown [nycnoise]
DTSTART:20250621T230000Z
DTEND:20250622T000000Z
UID:9fd6f503-fe15-4fca-bd78-9dfc1b10a95e
CREATED:20260420T145351Z
DESCRIPTION:🇵🇸 PACBI
LOCATION:brothers wash & dry laundromat (5420 nurge ave\, queens)
END:VEVENT
END:VCALENDAR
