BEGIN:VCALENDAR
BEGIN:VEVENT
SUMMARY:Celine Kang / Josh Matthews / Kumi Maxson\, TJ Borden & Regan Bowe
 ring [nycnoise]
DTSTART:20250625T230000Z
DTEND:20250626T000000Z
UID:06e7d7cf-74dd-4abd-82a9-6bc81b6eccc1
CREATED:20260420T145251Z
DESCRIPTION:🇵🇸 PACBI
LOCATION:brothers wash & dry laundromat (5420 nurge ave\, queens)
END:VEVENT
END:VCALENDAR
