BEGIN:VCALENDAR
BEGIN:VEVENT
SUMMARY:Carlo Costa\, Sean Ali & Webb Crawford\, Nathan Chamberlain / Mira
 nda Agnew / Rocío Sánchez [nycnoise]
DTSTART:20250628T230000Z
DTEND:20250629T000000Z
UID:36f5b69c-c5c3-44ca-a755-d20fa6f3ea74
CREATED:20260420T145353Z
DESCRIPTION:🇵🇸 PACBI
LOCATION:brothers wash & dry laundromat (5420 nurge ave\, queens)
END:VEVENT
END:VCALENDAR
