BEGIN:VCALENDAR
BEGIN:VEVENT
SUMMARY:Nathan Nakadegawa-Lee & Marc Edwards\, TBA [nycnoise]
DTSTART:20250705T230000Z
DTEND:20250706T000000Z
UID:a876052a-83b3-42f8-a569-9af71bdf0584
CREATED:20260420T145205Z
DESCRIPTION:🇵🇸 PACBI +++ info asap
LOCATION:brothers wash & dry laundromat (5420 nurge ave\, queens)
END:VEVENT
END:VCALENDAR
