BEGIN:VCALENDAR
BEGIN:VEVENT
SUMMARY:Wormhole: Gían Pérez & Diego Hedez\, Hatcher + Dessel\, James Mc
 Kain / Sam Newsome / Brittany Karlson / Nick Neuberg [nycnoise]
DTSTART:20250706T230000Z
DTEND:20250707T000000Z
UID:a9ada18b-5818-421e-8ca6-00454783a03f
CREATED:20260420T163843Z
DESCRIPTION:🇵🇸 PACBI +++ wormhole curated by g&iacute\;an
LOCATION:brothers wash & dry laundromat (5420 nurge ave\, queens)
END:VEVENT
END:VCALENDAR
