BEGIN:VCALENDAR
BEGIN:VEVENT
SUMMARY:Roblox Tycoon\, Karen Dazzler\, Structure Affliction\, Orchid McRa
 e [nycnoise]
DTSTART:20250719T230000Z
DTEND:20250720T000000Z
UID:76df0ad1-8f7e-4de6-ae9b-e95249f12621
CREATED:20260420T145213Z
DESCRIPTION:🇵🇸 PACBI
LOCATION:brothers wash & dry laundromat (5420 nurge ave\, queens)
END:VEVENT
END:VCALENDAR
