BEGIN:VCALENDAR
BEGIN:VEVENT
SUMMARY:Celine Kang / Joseph Wagner / Brian Carp\, Ollie Becker / Raef Sen
 gupta / Nikita Manin / Jonathan Paik / Alex Yoo\, Alfredo Colón [nycnoise
 ]
DTSTART:20250720T230000Z
DTEND:20250721T000000Z
UID:61c81df6-09de-4e6f-8e04-1c25d6e1861b
CREATED:20260420T164007Z
DESCRIPTION:🇵🇸 PACBI
LOCATION:brothers wash & dry laundromat (5420 nurge ave\, queens)
END:VEVENT
END:VCALENDAR
