BEGIN:VCALENDAR
BEGIN:VEVENT
SUMMARY:Matt W & NO R3VERS3 will Present Sounds [nycnoise]
DTSTART:20250605T230000Z
DTEND:20250606T000000Z
UID:e141338e-708c-445c-9035-bee391786c80
CREATED:20260420T145345Z
DESCRIPTION:🇵🇸 PACBI +++ 🌀 notaflof work trade
LOCATION:light & sound design
END:VEVENT
END:VCALENDAR
