BEGIN:VCALENDAR
BEGIN:VEVENT
SUMMARY:Theodore Cale Schafer\, Panphilia\, Infant\, Bccording [nycnoise]
DTSTART:20250611T230000Z
DTEND:20250612T000000Z
UID:a9131647-e316-49b5-8b93-b14ab6b4fc17
CREATED:20260420T145424Z
DESCRIPTION:🇵🇸 PACBI +++ 🌀 notaflof work trade
LOCATION:light & sound design
END:VEVENT
END:VCALENDAR
