BEGIN:VCALENDAR
BEGIN:VEVENT
SUMMARY:Alex Rita presents Calm Roots Live with Aden [nycnoise]
DTSTART:20250615T230000Z
DTEND:20250616T000000Z
UID:b8131cef-82cf-4714-8271-05e8b8583e0d
CREATED:20260420T145422Z
DESCRIPTION:🇵🇸 PACBI +++ 🌀 notaflof work trade
LOCATION:light & sound design
END:VEVENT
END:VCALENDAR
