BEGIN:VCALENDAR
BEGIN:VEVENT
SUMMARY:[One Year of] Fiber Vol. 9: Matük\, Mz3\, myu 無\, fuge [nycnois
 e]
DTSTART:20250621T220000Z
DTEND:20250621T230000Z
UID:9e7ebaf1-42dd-468f-b35f-903715187bfd
CREATED:20260420T145344Z
DESCRIPTION:🇵🇸 PACBI +++ 🌀 notaflof work trade +++ The NY Cultura
 l Solidarity Project tabling
LOCATION:light & sound design
END:VEVENT
END:VCALENDAR
