BEGIN:VCALENDAR
BEGIN:VEVENT
SUMMARY:BK Experimental Electronic: Architrave\, Synsor\, Rachel Jihye Han
 \, Ahmed Q [nycnoise]
DTSTART:20250626T230000Z
DTEND:20250627T000000Z
UID:a865381a-37a1-48ff-a291-af0828c031fc
CREATED:20260420T145256Z
DESCRIPTION:
LOCATION:wonderville (1186 broadway\, brooklyn)
END:VEVENT
END:VCALENDAR
