BEGIN:VCALENDAR
BEGIN:VEVENT
SUMMARY:Experimental Audio Showcase & Workshop: Nebulus\, Fullblown\, DJ A
 ndra [nycnoise]
DTSTART:20250707T000000Z
DTEND:20250707T010000Z
UID:73eb74d5-1713-4047-bfe5-55b587b38d5a
CREATED:20260420T164158Z
DESCRIPTION:6pm workshop\, 8pm performances
LOCATION:wonderville (1186 broadway\, brooklyn)
END:VEVENT
END:VCALENDAR
