BEGIN:VCALENDAR
BEGIN:VEVENT
SUMMARY:Ashbringer\, Semaphore\, Don Pardo\, Dollar Tree [nycnoise]
DTSTART:20250604T230000Z
DTEND:20250605T000000Z
UID:809561ad-e69f-476b-a34f-d53a1d0d3ea6
CREATED:20260420T145556Z
DESCRIPTION:
LOCATION:gold sounds (44 wilson ave\, brooklyn)
END:VEVENT
END:VCALENDAR
