BEGIN:VCALENDAR
BEGIN:VEVENT
SUMMARY:Collective Effort NYC presents: Trophy Hunt\, Shiverboard\, The Ce
 ntral\, Detach The Islands\, Radiation Blackbody [nycnoise]
DTSTART:20250608T000000Z
DTEND:20250608T010000Z
UID:dd3e8f08-1532-45d9-bede-bae242908213
CREATED:20260420T145257Z
DESCRIPTION:7pm doors
LOCATION:gold sounds (44 wilson ave\, brooklyn)
END:VEVENT
END:VCALENDAR
