BEGIN:VCALENDAR
BEGIN:VEVENT
SUMMARY:Murderpact\, Popstar\, ZombieShark\, Mildred Pierce [nycnoise]
DTSTART:20250612T000000Z
DTEND:20250612T010000Z
UID:ea0abc89-7b18-4416-92db-9b77f36ed21f
CREATED:20260420T145330Z
DESCRIPTION:
LOCATION:gold sounds (44 wilson ave\, brooklyn)
END:VEVENT
END:VCALENDAR
