BEGIN:VCALENDAR
BEGIN:VEVENT
SUMMARY:Carmen Quill / Hamir Atwal / Kenny Warren / Raffi Garabedian [nycn
 oise]
DTSTART:20250612T010000Z
DTEND:20250612T020000Z
UID:f8a17914-0afa-4575-8ac8-317fc3d0fac7
CREATED:20260420T145415Z
DESCRIPTION:
LOCATION:dada (6047 Myrtle Ave\, Queens\, NY 11385)
END:VEVENT
END:VCALENDAR
