BEGIN:VCALENDAR
BEGIN:VEVENT
SUMMARY:Ebaugh / Mckain / Nadien / Palmer\, Stan Zenkov\, Gían Pérez [ny
 cnoise]
DTSTART:20250628T000000Z
DTEND:20250628T010000Z
UID:4b65bada-19e9-4524-aede-d440d5fc2269
CREATED:20260420T145327Z
DESCRIPTION:confirming asap
LOCATION:dada (6047 Myrtle Ave\, Queens\, NY 11385)
END:VEVENT
END:VCALENDAR
