BEGIN:VCALENDAR
BEGIN:VEVENT
SUMMARY:DMG Free Tues: Rich Rosenthal / Nick Gianni / Adam Lane / Marc Edw
 ards\, Yoni Kretzmer & Shanir Blumenkranz\, Ken Kobayashi / Erin Rogers / 
 Jeff Miles / Michael Gilbert\, Microplastique [nycnoise]
DTSTART:20250617T223000Z
DTEND:20250617T233000Z
UID:b2a5d348-b05a-45cd-8ca6-065849531da8
CREATED:20260420T145541Z
DESCRIPTION:
LOCATION:downtown music gallery (13 monroe st.\, manhattan)
END:VEVENT
END:VCALENDAR
