BEGIN:VCALENDAR
BEGIN:VEVENT
SUMMARY:DMG Free Tues: Amanda Monaco & Ras Moshe\, Hamir Atwal / Chris Van
  Hoorst / Kyle Nasser\, Flip City (David Aaron\, Nick Panoutsos\, David Go
 uld)\, Ben Goldberg / Michael Coleman / Luke Bergman / Atwal [nycnoise]
DTSTART:20250701T223000Z
DTEND:20250701T233000Z
UID:19c1338f-46a6-4db7-b2b7-e95493e4404f
CREATED:20260420T145211Z
DESCRIPTION:
LOCATION:downtown music gallery (13 monroe st.\, manhattan)
END:VEVENT
END:VCALENDAR
