BEGIN:VCALENDAR
BEGIN:VEVENT
SUMMARY:DMG Free Tues: Sabrina Salamone / Rocio Sanchez / Nick Neuberg\, T
 y Citerman / Jen Baker / Dafna Naphtali\, Sylvain Leroux / Hill Greene / D
 an Kurfirst\, Mark Daterman / Jair-Rohm Parker Wells / Joe Hurtin [nycnois
 e]
DTSTART:20250715T223000Z
DTEND:20250715T233000Z
UID:02aea194-6eab-4a10-8582-864579f8379f
CREATED:20260420T164007Z
DESCRIPTION:
LOCATION:downtown music gallery (13 monroe st.\, manhattan)
END:VEVENT
END:VCALENDAR
