BEGIN:VCALENDAR
BEGIN:VEVENT
SUMMARY:Milkman’s Molotov\, Korra Rain\, crimesididntcommit (bday show)\
 , Flitch\, Rhododendron Witch [nycnoise]
DTSTART:20250626T000000Z
DTEND:20250626T010000Z
UID:40cb75ff-7a20-4908-a9ce-e213e4c2be9a
CREATED:20260420T145349Z
DESCRIPTION:
LOCATION:hart bar (538 hart st.\, brooklyn)
END:VEVENT
END:VCALENDAR
