BEGIN:VCALENDAR
BEGIN:VEVENT
SUMMARY:Dot Dash Presents: Psincerity\, Leopardo\, Femcel [nycnoise]
DTSTART:20250627T003000Z
DTEND:20250627T013000Z
UID:d9568b2e-c03e-4128-a0b1-8b417980b629
CREATED:20260420T145319Z
DESCRIPTION:7:30pm doors
LOCATION:hart bar (538 hart st.\, brooklyn)
END:VEVENT
END:VCALENDAR
