BEGIN:VCALENDAR
BEGIN:VEVENT
SUMMARY:Gían Pérez / Kenny Warren / Cecilia López / Eva Novoa [nycnoise
 ]
DTSTART:20250622T000000Z
DTEND:20250622T010000Z
UID:eb2a148a-08a3-44b6-b269-c8494a0ca3be
CREATED:20260420T145331Z
DESCRIPTION:
LOCATION:ibeam (168 7th st.\, brooklyn)
END:VEVENT
END:VCALENDAR
