BEGIN:VCALENDAR
BEGIN:VEVENT
SUMMARY:BK Free Spirit Fest #1/2: Siren Xypher (Melanie Dyer\, Kyoko Kitam
 ura\, Mara Rosenbloom)\, Kazzrie Jaxen [nycnoise]
DTSTART:20250712T233000Z
DTEND:20250713T003000Z
UID:2353a097-6a3a-473c-a31a-61e713d7cae8
CREATED:20260420T163855Z
DESCRIPTION:5pm qigong workshop w/ Kazzrie Jaxen
LOCATION:ibeam (168 7th st.\, brooklyn)
END:VEVENT
END:VCALENDAR
