BEGIN:VCALENDAR
BEGIN:VEVENT
SUMMARY:Improvised Music: Jeff Davis Band\, Neta Ranaan\, Personal Space (
 Nathan Morgan\, Kate Gentile\, Andrew Smiley) [nycnoise]
DTSTART:20250611T230000Z
DTEND:20250612T000000Z
UID:f4a59122-a261-450c-b28a-5cdb31c010ef
CREATED:20260420T145410Z
DESCRIPTION:
LOCATION:main drag (before oct 2025) (50 s. 1st st.\, brooklyn)
END:VEVENT
END:VCALENDAR
