BEGIN:VCALENDAR
BEGIN:VEVENT
SUMMARY:Luke Schneider\, Royal Arctic Institute\, Pure Waves [nycnoise]
DTSTART:20250622T200000Z
DTEND:20250622T210000Z
UID:22260660-1676-4e6a-9203-51147f70190c
CREATED:20260420T145337Z
DESCRIPTION:
LOCATION:mama tried (787 3rd ave\, brooklyn)
END:VEVENT
END:VCALENDAR
