BEGIN:VCALENDAR
BEGIN:VEVENT
SUMMARY:Haggus\, Bowel Erosion\, Ferment\, Blemish [nycnoise]
DTSTART:20250601T233000Z
DTEND:20250602T003000Z
UID:e90cfe5b-36fc-482b-9981-15acd602dd08
CREATED:20260420T145355Z
DESCRIPTION:
LOCATION:trans-pecos (9-15 wyckoff ave\, ridgewood)
END:VEVENT
END:VCALENDAR
