BEGIN:VCALENDAR
BEGIN:VEVENT
SUMMARY:Crate\, Bloodsports\, Discus\, Main Era\, Amiture Music [nycnoise]
DTSTART:20250605T000000Z
DTEND:20250605T010000Z
UID:ad73395f-31fb-4e60-8a6d-e0ad4b909fe1
CREATED:20260420T145244Z
DESCRIPTION:
LOCATION:trans-pecos (9-15 wyckoff ave\, ridgewood)
END:VEVENT
END:VCALENDAR
