BEGIN:VCALENDAR
BEGIN:VEVENT
SUMMARY:Heavy Hearts 4: Soo Intoit\, Geng PTP\, Dani Rev\, HARDKORE\, medi
 um. [nycnoise]
DTSTART:20250627T030000Z
DTEND:20250627T040000Z
UID:befdc641-3e03-487f-b395-4f65661d7292
CREATED:20260420T145259Z
DESCRIPTION:
LOCATION:trans-pecos (9-15 wyckoff ave\, ridgewood)
END:VEVENT
END:VCALENDAR
