BEGIN:VCALENDAR
BEGIN:VEVENT
SUMMARY:Nate Wooley / Matt Mitchell / Thomas Strønen / Eivind Opsvik [nyc
 noise]
DTSTART:20250613T000000Z
DTEND:20250613T010000Z
UID:995b8c17-3e86-4a8e-8c4c-6abe42d0af2d
CREATED:20260420T145336Z
DESCRIPTION:
LOCATION:barbès (376 9th st.\, brooklyn)
END:VEVENT
END:VCALENDAR
