BEGIN:VCALENDAR
BEGIN:VEVENT
SUMMARY:Mise-En Fest: Works by Hannes Dufek\, Yike Zhang\, Cenk Ergün\, O
 liver Kwapis\, George Brunner [nycnoise]
DTSTART:20250625T230000Z
DTEND:20250626T000000Z
UID:356ba6b5-f5fa-4c61-916b-18de3b12f48f
CREATED:20260420T145321Z
DESCRIPTION:
LOCATION:mise-en_place (45 St Nicholas Ave\, New York\, NY 10026)
END:VEVENT
END:VCALENDAR
