BEGIN:VCALENDAR
BEGIN:VEVENT
SUMMARY:Mise-En Fest: Works by Jess Rowland\, Alissa Voth\, Tarik Inman\, 
 Inga Chinilina [nycnoise]
DTSTART:20250626T003000Z
DTEND:20250626T013000Z
UID:9ba5e1d1-297a-42a8-b570-ba2a8be6bd8a
CREATED:20260420T145407Z
DESCRIPTION:
LOCATION:mise-en_place (45 St Nicholas Ave\, New York\, NY 10026)
END:VEVENT
END:VCALENDAR
