BEGIN:VCALENDAR
BEGIN:VEVENT
SUMMARY:Mise-En Fest: Works by Luciana Perc\, Ursel Quint\, Ben Lunn\, Maj
 a Cerar [nycnoise]
DTSTART:20250624T230000Z
DTEND:20250625T000000Z
UID:0c9d050d-ceaa-47f7-bf39-26488b276e79
CREATED:20260420T145326Z
DESCRIPTION:
LOCATION:mise-en_place (45 St Nicholas Ave\, New York\, NY 10026)
END:VEVENT
END:VCALENDAR
