BEGIN:VCALENDAR
BEGIN:VEVENT
SUMMARY:Open Studios: Rena Anakwe\, Sonic Liberation Devices\, Femi Shonug
 a-Fleming [nycnoise]
DTSTART:20250612T233000Z
DTEND:20250613T003000Z
UID:5c1e9396-b7ca-4d2d-b25c-e8dd336cd3b7
CREATED:20260420T145450Z
DESCRIPTION:curated by Johann Diedrick
LOCATION:cpr (center for performance research) (361 manhattan ave\, brookl
 yn)
END:VEVENT
END:VCALENDAR
