BEGIN:VCALENDAR
BEGIN:VEVENT
SUMMARY:Hello\, At Last: Matt Evans + Alkistis Misouli\, Norma Jean Haynes
  [nycnoise]
DTSTART:20250604T230000Z
DTEND:20250605T000000Z
UID:af1e72ab-a686-4246-9c79-2eabe1e6fa06
CREATED:20260420T145350Z
DESCRIPTION:curated by Jess Tsang
LOCATION:archestratus (160 huron st\, brooklyn)
END:VEVENT
END:VCALENDAR
