BEGIN:VCALENDAR
BEGIN:VEVENT
SUMMARY:Hello\, At Last: Raquel Acevedo Klein + Kyla-Rose Smith\, boio (Ro
 bby Bowen & Finn Shanahan) [nycnoise]
DTSTART:20250610T230000Z
DTEND:20250611T000000Z
UID:1c2b8042-b821-4f55-b5c6-cc72f23c810b
CREATED:20260420T145605Z
DESCRIPTION:curated by Jess Tsang
LOCATION:archestratus (160 huron st\, brooklyn)
END:VEVENT
END:VCALENDAR
