BEGIN:VCALENDAR
BEGIN:VEVENT
SUMMARY:Sam Decker / Gregg Belisle-Chi / Dov Manski / Tom Rainey / Chris T
 ordini [nycnoise]
DTSTART:20250604T000000Z
DTEND:20250604T010000Z
UID:c3bdd3a4-b29e-453c-a1d5-8f49c4abc48c
CREATED:20260420T145603Z
DESCRIPTION:
LOCATION:lowlands (543 3rd ave\, brooklyn)
END:VEVENT
END:VCALENDAR
