BEGIN:VCALENDAR
BEGIN:VEVENT
SUMMARY:Jake Henry (Record Release\; w/ Brian Krock\, Aaron Quinn\, Nathan
  Ellman-Bell)\, Daddy Issues (Nathaniel Morgan\, Jason Nazary\, Matt Nelso
 n) [nycnoise]
DTSTART:20250611T000000Z
DTEND:20250611T010000Z
UID:f2781942-a6f9-497e-ac74-45855d4e72b8
CREATED:20260420T145601Z
DESCRIPTION:
LOCATION:lowlands (543 3rd ave\, brooklyn)
END:VEVENT
END:VCALENDAR
