BEGIN:VCALENDAR
BEGIN:VEVENT
SUMMARY:Matthew Ryals & Maggie Cox\, Mike Clemow\, Takses [nycnoise]
DTSTART:20250613T000000Z
DTEND:20250613T010000Z
UID:4a17b8dd-1169-46be-98c0-55365a9f6499
CREATED:20260420T145413Z
DESCRIPTION:
LOCATION:lowlands (543 3rd ave\, brooklyn)
END:VEVENT
END:VCALENDAR
