BEGIN:VCALENDAR
BEGIN:VEVENT
SUMMARY:Filament [nycnoise]
DTSTART:20250618T000000Z
DTEND:20250618T010000Z
UID:95f7a5fe-08d4-48b9-913e-1ea4fd212389
CREATED:20260420T145545Z
DESCRIPTION:full lineup asap
LOCATION:lowlands (543 3rd ave\, brooklyn)
END:VEVENT
END:VCALENDAR
