BEGIN:VCALENDAR
BEGIN:VEVENT
SUMMARY:Tim Berne / John Hébert / Gregg Belisle-Chi / Tom Rainey [nycnois
 e]
DTSTART:20250620T010000Z
DTEND:20250620T020000Z
UID:d99952fe-47ae-45e1-8667-fa423a6ef432
CREATED:20260420T145407Z
DESCRIPTION:
LOCATION:lowlands (543 3rd ave\, brooklyn)
END:VEVENT
END:VCALENDAR
