BEGIN:VCALENDAR
BEGIN:VEVENT
SUMMARY:Camp Monstrous / LGBT Center Fundraiser: Andi\, Apocalypse Noir (l
 ive)\, Bentley Robles (live)\, Lexxe (live)\, DJ Dolarhyde\, Violet Sky [n
 ycnoise]
DTSTART:20250612T210000Z
DTEND:20250612T220000Z
UID:c7554da2-7c07-424b-90eb-10dd5c6bacfe
CREATED:20260420T145335Z
DESCRIPTION:
LOCATION:nowadays (56-06 cooper ave\, ridgewood)
END:VEVENT
END:VCALENDAR
