BEGIN:VCALENDAR
BEGIN:VEVENT
SUMMARY:Body Hack Nonstop: ASL Princess\, BLAIZE b2b Cisne\, ONEELEVEN\, J
 asmine Infiniti\, ARCHANGEL b2b Introspekt\, TYGAPAW [nycnoise]
DTSTART:20250629T020000Z
DTEND:20250629T030000Z
UID:4c306ea0-3853-4957-94b9-8df06bca85b7
CREATED:20260420T145452Z
DESCRIPTION:🇵🇸 PACBI (body hack)
LOCATION:nowadays (56-06 cooper ave\, ridgewood)
END:VEVENT
END:VCALENDAR
