BEGIN:VCALENDAR
BEGIN:VEVENT
SUMMARY:Ingrid Laubrock / Brandon Lopez / Tom Rainey [nycnoise]
DTSTART:20250604T233000Z
DTEND:20250605T003000Z
UID:9780b3f4-1789-4d11-965a-ba1a1fc90aac
CREATED:20260420T145209Z
DESCRIPTION:7:30pm tix &amp\; 9pm tix
LOCATION:close up jazz (154 Orchard St\, New York\, NY 10002\, United Stat
 es)
END:VEVENT
END:VCALENDAR
