BEGIN:VCALENDAR
BEGIN:VEVENT
SUMMARY:Brandon Seabrook / Sylvie Corvoisier / Zeena Perkins [nycnoise]
DTSTART:20250611T233000Z
DTEND:20250612T003000Z
UID:d87c4121-09d6-4056-97c3-20c7e53484c0
CREATED:20260420T145327Z
DESCRIPTION:7:30pm tix &amp\; 9pm tix
LOCATION:close up jazz (154 Orchard St\, New York\, NY 10002\, United Stat
 es)
END:VEVENT
END:VCALENDAR
