BEGIN:VCALENDAR
BEGIN:VEVENT
SUMMARY:Shame X Heartcore: Thoom\, Sausha\, estoc\, sydfalls\, Via App\, d
 j listen to ur heart [nycnoise]
DTSTART:20250607T230000Z
DTEND:20250608T000000Z
UID:06baf507-8386-49c5-8390-789d6954a446
CREATED:20260420T145205Z
DESCRIPTION:
LOCATION:trash bridge
END:VEVENT
END:VCALENDAR
