BEGIN:VCALENDAR
BEGIN:VEVENT
SUMMARY:Kill Alters\, KFC Murder Chicks\, Next 2 Jimmy\, ID Sus [nycnoise]
DTSTART:20250612T000000Z
DTEND:20250612T010000Z
UID:7e6a85aa-770d-40db-94be-9e94f6fc71fc
CREATED:20260420T145421Z
DESCRIPTION:7pm doors
LOCATION:broadway (1272 broadway\, brooklyn)
END:VEVENT
END:VCALENDAR
