BEGIN:VCALENDAR
BEGIN:VEVENT
SUMMARY:Nathan Chamberlain / Paul Sakai / Stan Zenkov / Jeff Pearring\, Or
 chidbb\, Nicholas Christenson [nycnoise]
DTSTART:20250621T000000Z
DTEND:20250621T010000Z
UID:7368ed64-bfa5-42ab-ad70-2e711bd5e4ab
CREATED:20260420T145451Z
DESCRIPTION:
LOCATION:freddy's (627 5th ave\, brooklyn)
END:VEVENT
END:VCALENDAR
