BEGIN:VCALENDAR
BEGIN:VEVENT
SUMMARY:20 Years of Yarn/Wire\, Night #2/3: Yarn/Wire plays works by Enno 
 Poppe & Craig Taborn [nycnoise]
DTSTART:20251028T220000Z
DTEND:20251028T230000Z
UID:082c2bb1-344f-406b-9890-05d4cad66442
CREATED:20260420T145246Z
DESCRIPTION:ft. Taborn
LOCATION:miller theatre (2960 broadway\, manhattan)
END:VEVENT
END:VCALENDAR
